BEGIN:VCALENDAR
VERSION:2.0
PRODID:-//Devpost\, Inc.//Hacktech by Caltech 2026//EN
CALSCALE:GREGORIAN
BEGIN:VTIMEZONE
TZID:America/Los_Angeles
BEGIN:DAYLIGHT
DTSTART:20260308T030000
TZOFFSETFROM:-0800
TZOFFSETTO:-0700
RRULE:FREQ=YEARLY;BYDAY=2SU;BYMONTH=3
TZNAME:PDT
END:DAYLIGHT
BEGIN:STANDARD
DTSTART:20261101T010000
TZOFFSETFROM:-0700
TZOFFSETTO:-0800
RRULE:FREQ=YEARLY;BYDAY=1SU;BYMONTH=11
TZNAME:PST
END:STANDARD
END:VTIMEZONE
BEGIN:VEVENT
DTSTAMP:20260423T005433Z
UID:666d8e5d-1d2c-4db1-b849-76aa16bf6e1d
DTSTART;TZID=America/Los_Angeles:20260424T210000
DTEND;TZID=America/Los_Angeles:20260426T090000
DESCRIPTION:https://hacktech-by-caltech-2026.devpost.com/
LOCATION:293 S Holliston Ave\, Pasadena\, CA 91106\, USA
SUMMARY:Hacktech by Caltech 2026
BEGIN:VALARM
ACTION:DISPLAY
TRIGGER:-P3D
SUMMARY:Get ready\, the hacking starts in 3 days.
END:VALARM
END:VEVENT
END:VCALENDAR
